BEGIN:VCALENDAR
VERSION:2.0
PRODID:-//Rotary Club of Accra - ECPv6.15.11//NONSGML v1.0//EN
CALSCALE:GREGORIAN
METHOD:PUBLISH
X-ORIGINAL-URL:https://rotaryclubofaccra.org
X-WR-CALDESC:Events for Rotary Club of Accra
REFRESH-INTERVAL;VALUE=DURATION:PT1H
X-Robots-Tag:noindex
X-PUBLISHED-TTL:PT1H
BEGIN:VTIMEZONE
TZID:UTC
BEGIN:STANDARD
TZOFFSETFROM:+0000
TZOFFSETTO:+0000
TZNAME:UTC
DTSTART:20200101T000000
END:STANDARD
END:VTIMEZONE
BEGIN:VEVENT
DTSTART;VALUE=DATE:20210428
DTEND;VALUE=DATE:20210502
DTSTAMP:20260423T210535
CREATED:20201004T225412Z
LAST-MODIFIED:20201004T225412Z
UID:3618-1619568000-1619913599@rotaryclubofaccra.org
SUMMARY:RYLA
DESCRIPTION:
URL:https://rotaryclubofaccra.org/event/ryla-2/
END:VEVENT
BEGIN:VEVENT
DTSTART;VALUE=DATE:20210426
DTEND;VALUE=DATE:20210427
DTSTAMP:20260423T210535
CREATED:20201004T224942Z
LAST-MODIFIED:20201004T224942Z
UID:3610-1619395200-1619481599@rotaryclubofaccra.org
SUMMARY:Regular Meeting
DESCRIPTION:Guest Speaker
URL:https://rotaryclubofaccra.org/event/regular-meeting-16/
END:VEVENT
BEGIN:VEVENT
DTSTART;VALUE=DATE:20210419
DTEND;VALUE=DATE:20210420
DTSTAMP:20260423T210535
CREATED:20201004T224844Z
LAST-MODIFIED:20201004T224844Z
UID:3608-1618790400-1618876799@rotaryclubofaccra.org
SUMMARY:Regular Meeting
DESCRIPTION:Classification / Rotarian Talk
URL:https://rotaryclubofaccra.org/event/regular-meeting-15/
END:VEVENT
BEGIN:VEVENT
DTSTART;VALUE=DATE:20210415
DTEND;VALUE=DATE:20210416
DTSTAMP:20260423T210535
CREATED:20201004T225303Z
LAST-MODIFIED:20201004T225303Z
UID:3616-1618444800-1618531199@rotaryclubofaccra.org
SUMMARY:Board Meeting
DESCRIPTION:
URL:https://rotaryclubofaccra.org/event/board-meeting-7/
END:VEVENT
BEGIN:VEVENT
DTSTART;VALUE=DATE:20210413
DTEND;VALUE=DATE:20210418
DTSTAMP:20260423T210535
CREATED:20201004T225224Z
LAST-MODIFIED:20201004T225224Z
UID:3614-1618272000-1618703999@rotaryclubofaccra.org
SUMMARY:DTAC\, Accra\, Ghana
DESCRIPTION:
URL:https://rotaryclubofaccra.org/event/dtac-accra-ghana/
END:VEVENT
BEGIN:VEVENT
DTSTART;VALUE=DATE:20210412
DTEND;VALUE=DATE:20210413
DTSTAMP:20260423T210535
CREATED:20201004T224751Z
LAST-MODIFIED:20201004T224751Z
UID:3606-1618185600-1618271999@rotaryclubofaccra.org
SUMMARY:Business Meeting
DESCRIPTION:
URL:https://rotaryclubofaccra.org/event/business-meeting-6/
END:VEVENT
BEGIN:VEVENT
DTSTART;VALUE=DATE:20210405
DTEND;VALUE=DATE:20210406
DTSTAMP:20260423T210535
CREATED:20201004T203904Z
LAST-MODIFIED:20201004T203904Z
UID:3600-1617580800-1617667199@rotaryclubofaccra.org
SUMMARY:EASTER MONDAY
DESCRIPTION:
URL:https://rotaryclubofaccra.org/event/easter-monday-2/
END:VEVENT
BEGIN:VEVENT
DTSTART;VALUE=DATE:20210402
DTEND;VALUE=DATE:20210406
DTSTAMP:20260423T210535
CREATED:20201004T225115Z
LAST-MODIFIED:20201004T225115Z
UID:3612-1617321600-1617667199@rotaryclubofaccra.org
SUMMARY:Easter Holidays
DESCRIPTION:
URL:https://rotaryclubofaccra.org/event/easter-holidays/
END:VEVENT
BEGIN:VEVENT
DTSTART;VALUE=DATE:20210329
DTEND;VALUE=DATE:20210330
DTSTAMP:20260423T210535
CREATED:20201004T201621Z
LAST-MODIFIED:20201004T201621Z
UID:3589-1616976000-1617062399@rotaryclubofaccra.org
SUMMARY:Regular Meeting
DESCRIPTION:
URL:https://rotaryclubofaccra.org/event/regular-meeting-14/
END:VEVENT
BEGIN:VEVENT
DTSTART;VALUE=DATE:20210322
DTEND;VALUE=DATE:20210323
DTSTAMP:20260423T210535
CREATED:20201004T201524Z
LAST-MODIFIED:20201004T201524Z
UID:3587-1616371200-1616457599@rotaryclubofaccra.org
SUMMARY:Regular Meeting
DESCRIPTION:Guest Speaker
URL:https://rotaryclubofaccra.org/event/regular-meeting-13/
END:VEVENT
BEGIN:VEVENT
DTSTART;VALUE=DATE:20210320
DTEND;VALUE=DATE:20210321
DTSTAMP:20260423T210535
CREATED:20201004T203729Z
LAST-MODIFIED:20201004T203729Z
UID:3598-1616198400-1616284799@rotaryclubofaccra.org
SUMMARY:New Member Orientation Workshop
DESCRIPTION:
URL:https://rotaryclubofaccra.org/event/new-member-orientation-workshop/
END:VEVENT
BEGIN:VEVENT
DTSTART;VALUE=DATE:20210318
DTEND;VALUE=DATE:20210319
DTSTAMP:20260423T210535
CREATED:20201004T201945Z
LAST-MODIFIED:20201004T201945Z
UID:3595-1616025600-1616111999@rotaryclubofaccra.org
SUMMARY:Board Meeting
DESCRIPTION:
URL:https://rotaryclubofaccra.org/event/board-meeting-6/
END:VEVENT
BEGIN:VEVENT
DTSTART;VALUE=DATE:20210315
DTEND;VALUE=DATE:20210316
DTSTAMP:20260423T210535
CREATED:20201004T201425Z
LAST-MODIFIED:20201004T201425Z
UID:3585-1615766400-1615852799@rotaryclubofaccra.org
SUMMARY:Regular Meeting
DESCRIPTION:Classification / Rotarian Talk
URL:https://rotaryclubofaccra.org/event/regular-meeting-12/
END:VEVENT
BEGIN:VEVENT
DTSTART;VALUE=DATE:20210309
DTEND;VALUE=DATE:20210314
DTSTAMP:20260423T210535
CREATED:20201004T201813Z
LAST-MODIFIED:20201004T201813Z
UID:3593-1615248000-1615679999@rotaryclubofaccra.org
SUMMARY:World Rotaract Week
DESCRIPTION:
URL:https://rotaryclubofaccra.org/event/world-rotaract-week/
END:VEVENT
BEGIN:VEVENT
DTSTART;VALUE=DATE:20210308
DTEND;VALUE=DATE:20210309
DTSTAMP:20260423T210535
CREATED:20201004T201719Z
LAST-MODIFIED:20201004T201719Z
UID:3591-1615161600-1615247999@rotaryclubofaccra.org
SUMMARY:Fireside Meeting
DESCRIPTION:
URL:https://rotaryclubofaccra.org/event/fireside-meeting/
END:VEVENT
BEGIN:VEVENT
DTSTART;VALUE=DATE:20210308
DTEND;VALUE=DATE:20210309
DTSTAMP:20260423T210535
CREATED:20201004T201311Z
LAST-MODIFIED:20201004T201339Z
UID:3583-1615161600-1615247999@rotaryclubofaccra.org
SUMMARY:HOLIDAY (INDEPENDENCE)
DESCRIPTION:Guest Speaker
URL:https://rotaryclubofaccra.org/event/holiday-independence/
END:VEVENT
BEGIN:VEVENT
DTSTART;VALUE=DATE:20210301
DTEND;VALUE=DATE:20210302
DTSTAMP:20260423T210535
CREATED:20201004T201151Z
LAST-MODIFIED:20201004T201156Z
UID:3581-1614556800-1614643199@rotaryclubofaccra.org
SUMMARY:Business Meeting
DESCRIPTION:
URL:https://rotaryclubofaccra.org/event/business-meeting-5/
END:VEVENT
BEGIN:VEVENT
DTSTART;VALUE=DATE:20210227
DTEND;VALUE=DATE:20210228
DTSTAMP:20260423T210535
CREATED:20201004T201057Z
LAST-MODIFIED:20201004T201057Z
UID:3579-1614384000-1614470399@rotaryclubofaccra.org
SUMMARY:Walk for Rotary
DESCRIPTION:
URL:https://rotaryclubofaccra.org/event/walk-for-rotary/
END:VEVENT
BEGIN:VEVENT
DTSTART;VALUE=DATE:20210223
DTEND;VALUE=DATE:20210224
DTSTAMP:20260423T210535
CREATED:20201004T201012Z
LAST-MODIFIED:20201004T201012Z
UID:3577-1614038400-1614124799@rotaryclubofaccra.org
SUMMARY:Intercity Meeting
DESCRIPTION:
URL:https://rotaryclubofaccra.org/event/intercity-meeting/
END:VEVENT
BEGIN:VEVENT
DTSTART;VALUE=DATE:20210222
DTEND;VALUE=DATE:20210223
DTSTAMP:20260423T210535
CREATED:20201004T200630Z
LAST-MODIFIED:20201004T200733Z
UID:3573-1613952000-1614038399@rotaryclubofaccra.org
SUMMARY:PEACE SYMPOSIUM
DESCRIPTION:
URL:https://rotaryclubofaccra.org/event/peace-symposium/
END:VEVENT
BEGIN:VEVENT
DTSTART;VALUE=DATE:20210218
DTEND;VALUE=DATE:20210219
DTSTAMP:20260423T210535
CREATED:20201004T200818Z
LAST-MODIFIED:20201004T200818Z
UID:3575-1613606400-1613692799@rotaryclubofaccra.org
SUMMARY:Board Meeting
DESCRIPTION:
URL:https://rotaryclubofaccra.org/event/board-meeting-5/
END:VEVENT
BEGIN:VEVENT
DTSTART;VALUE=DATE:20210215
DTEND;VALUE=DATE:20210216
DTSTAMP:20260423T210535
CREATED:20201004T200447Z
LAST-MODIFIED:20201004T200514Z
UID:3571-1613347200-1613433599@rotaryclubofaccra.org
SUMMARY:Regular Meeting
DESCRIPTION:Classification / Rotarian Talk
URL:https://rotaryclubofaccra.org/event/regular-meeting-11/
END:VEVENT
BEGIN:VEVENT
DTSTART;VALUE=DATE:20210208
DTEND;VALUE=DATE:20210209
DTSTAMP:20260423T210535
CREATED:20201004T195922Z
LAST-MODIFIED:20201004T200144Z
UID:3569-1612742400-1612828799@rotaryclubofaccra.org
SUMMARY:Regular Meeting
DESCRIPTION:Guest Speaker
URL:https://rotaryclubofaccra.org/event/regular-meeting-10/
END:VEVENT
BEGIN:VEVENT
DTSTART;VALUE=DATE:20210201
DTEND;VALUE=DATE:20210202
DTSTAMP:20260423T210535
CREATED:20201004T195733Z
LAST-MODIFIED:20201004T195751Z
UID:3567-1612137600-1612223999@rotaryclubofaccra.org
SUMMARY:Business Meeting
DESCRIPTION:
URL:https://rotaryclubofaccra.org/event/business-meeting-4/
END:VEVENT
BEGIN:VEVENT
DTSTART;VALUE=DATE:20210125
DTEND;VALUE=DATE:20210126
DTSTAMP:20260423T210535
CREATED:20201004T195213Z
LAST-MODIFIED:20201004T195213Z
UID:3559-1611532800-1611619199@rotaryclubofaccra.org
SUMMARY:Regular Meeting
DESCRIPTION:Guest Speaker
URL:https://rotaryclubofaccra.org/event/regular-meeting-9/
END:VEVENT
BEGIN:VEVENT
DTSTART;VALUE=DATE:20210123
DTEND;VALUE=DATE:20210124
DTSTAMP:20260423T210535
CREATED:20201004T195526Z
LAST-MODIFIED:20201004T195526Z
UID:3565-1611360000-1611446399@rotaryclubofaccra.org
SUMMARY:Public Image Seminar
DESCRIPTION:
URL:https://rotaryclubofaccra.org/event/public-image-seminar/
END:VEVENT
BEGIN:VEVENT
DTSTART;VALUE=DATE:20210123
DTEND;VALUE=DATE:20210124
DTSTAMP:20260423T210535
CREATED:20201004T195433Z
LAST-MODIFIED:20201004T195433Z
UID:3563-1611360000-1611446399@rotaryclubofaccra.org
SUMMARY:Leadership Seminar
DESCRIPTION:
URL:https://rotaryclubofaccra.org/event/leadership-seminar/
END:VEVENT
BEGIN:VEVENT
DTSTART;VALUE=DATE:20210121
DTEND;VALUE=DATE:20210122
DTSTAMP:20260423T210535
CREATED:20201004T195251Z
LAST-MODIFIED:20201004T195324Z
UID:3561-1611187200-1611273599@rotaryclubofaccra.org
SUMMARY:Board Meeting
DESCRIPTION:
URL:https://rotaryclubofaccra.org/event/board-meeting-4/
END:VEVENT
BEGIN:VEVENT
DTSTART;VALUE=DATE:20210118
DTEND;VALUE=DATE:20210119
DTSTAMP:20260423T210535
CREATED:20201004T195127Z
LAST-MODIFIED:20201004T195133Z
UID:3557-1610928000-1611014399@rotaryclubofaccra.org
SUMMARY:Regular Meeting
DESCRIPTION:Classification / Rotarian Talk
URL:https://rotaryclubofaccra.org/event/regular-meeting-8/
END:VEVENT
BEGIN:VEVENT
DTSTART;VALUE=DATE:20210111
DTEND;VALUE=DATE:20210112
DTSTAMP:20260423T210535
CREATED:20201004T194958Z
LAST-MODIFIED:20201004T195010Z
UID:3555-1610323200-1610409599@rotaryclubofaccra.org
SUMMARY:Regular Meeting
DESCRIPTION:Guest Speaker
URL:https://rotaryclubofaccra.org/event/regular-meeting-7/
END:VEVENT
END:VCALENDAR